BEGIN:VCALENDAR
VERSION:2.0
PRODID:-//Flat Can Recycling - ECPv6.15.18//NONSGML v1.0//EN
CALSCALE:GREGORIAN
METHOD:PUBLISH
X-WR-CALNAME:Flat Can Recycling
X-ORIGINAL-URL:https://www.flatcanrecycling.com
X-WR-CALDESC:Events for Flat Can Recycling
REFRESH-INTERVAL;VALUE=DURATION:PT1H
X-Robots-Tag:noindex
X-PUBLISHED-TTL:PT1H
BEGIN:VTIMEZONE
TZID:America/Chicago
BEGIN:DAYLIGHT
TZOFFSETFROM:-0600
TZOFFSETTO:-0500
TZNAME:CDT
DTSTART:20230312T080000
END:DAYLIGHT
BEGIN:STANDARD
TZOFFSETFROM:-0500
TZOFFSETTO:-0600
TZNAME:CST
DTSTART:20231105T070000
END:STANDARD
BEGIN:DAYLIGHT
TZOFFSETFROM:-0600
TZOFFSETTO:-0500
TZNAME:CDT
DTSTART:20240310T080000
END:DAYLIGHT
BEGIN:STANDARD
TZOFFSETFROM:-0500
TZOFFSETTO:-0600
TZNAME:CST
DTSTART:20241103T070000
END:STANDARD
BEGIN:DAYLIGHT
TZOFFSETFROM:-0600
TZOFFSETTO:-0500
TZNAME:CDT
DTSTART:20250309T080000
END:DAYLIGHT
BEGIN:STANDARD
TZOFFSETFROM:-0500
TZOFFSETTO:-0600
TZNAME:CST
DTSTART:20251102T070000
END:STANDARD
END:VTIMEZONE
BEGIN:VTIMEZONE
TZID:UTC
BEGIN:STANDARD
TZOFFSETFROM:+0000
TZOFFSETTO:+0000
TZNAME:UTC
DTSTART:20250101T000000
END:STANDARD
END:VTIMEZONE
BEGIN:VEVENT
DTSTART;TZID=America/Chicago:20241216T070000
DTEND;TZID=America/Chicago:20241220T160000
DTSTAMP:20260419T175620
CREATED:20241216T231713Z
LAST-MODIFIED:20241216T231714Z
UID:2074-1734332400-1734710400@www.flatcanrecycling.com
SUMMARY:Weekday Drop-Offs at Flat Can HQ
DESCRIPTION:Drop off your specialized items for recycling every Monday – Friday\,  from 7am – 4pm at Flat Can Recycling\, 732 Hicks Drive\, Elburn\, IL 60119. \nConvenience fees apply\, and both cash and credit cards are accepted on-site. Don’t miss this opportunity to recycle responsibly and declutter your space! \nItems we Recycle \n\nAerosol Products: $1 each\nBlock Styrofoam (#6 only) – No food containers: $4 per lb\nSmoke Detectors & CO Detectors: $1 each\nCar Seats: $10 each\nHard Hats: $1 each\nHousehold Batteries: $4 per lb\nLatex Paint: $0 per sample\, $0 per pint\, $2 per quart\, $5 per gallon\, $20 per 5 gallons\nPropane & MAPP (14oz & 16 oz tanks): $4 each\nPower Wheels Cars w/ Battery: $20 each\nBubble Cars (Kids Red/Yellow): $10 each\nTricycles (Plastic Only): $10 each\nStrollers: $10 each\nTextiles\, Clothing & Shoes: Free\nHelium Tank (Balloon Time): $10 each\nHighchairs: $10 each\n\nThis event is a great opportunity to safely dispose of these materials while supporting a local business!
URL:https://www.flatcanrecycling.com/event/hicks-remix-drop-off-event-11-2/
LOCATION:732 Hicks Drive Elburn IL 60119\, 732 Hicks Drive\, Elburn\, IL\, 60119\, United States
ATTACH;FMTTYPE=image/png:https://www.flatcanrecycling.com/wp-content/uploads/2024/09/Weekday-Drop-Offs-at-Flat-Can-HQ.png
ORGANIZER;CN="Flat Can Recycling":MAILTO:hello@flatcanrecycling.com
END:VEVENT
BEGIN:VEVENT
DTSTART;TZID=America/Chicago:20241216T070000
DTEND;TZID=America/Chicago:20241220T160000
DTSTAMP:20260419T175620
CREATED:20241216T231713Z
LAST-MODIFIED:20241216T231714Z
UID:2074-1734332400-1734710400@www.flatcanrecycling.com
SUMMARY:Weekday Drop-Offs at Flat Can HQ
DESCRIPTION:Drop off your specialized items for recycling every Monday – Friday\,  from 7am – 4pm at Flat Can Recycling\, 732 Hicks Drive\, Elburn\, IL 60119. \nConvenience fees apply\, and both cash and credit cards are accepted on-site. Don’t miss this opportunity to recycle responsibly and declutter your space! \nItems we Recycle \n\nAerosol Products: $1 each\nBlock Styrofoam (#6 only) – No food containers: $4 per lb\nSmoke Detectors & CO Detectors: $1 each\nCar Seats: $10 each\nHard Hats: $1 each\nHousehold Batteries: $4 per lb\nLatex Paint: $0 per sample\, $0 per pint\, $2 per quart\, $5 per gallon\, $20 per 5 gallons\nPropane & MAPP (14oz & 16 oz tanks): $4 each\nPower Wheels Cars w/ Battery: $20 each\nBubble Cars (Kids Red/Yellow): $10 each\nTricycles (Plastic Only): $10 each\nStrollers: $10 each\nTextiles\, Clothing & Shoes: Free\nHelium Tank (Balloon Time): $10 each\nHighchairs: $10 each\n\nThis event is a great opportunity to safely dispose of these materials while supporting a local business!
URL:https://www.flatcanrecycling.com/event/hicks-remix-drop-off-event-11-2/
LOCATION:732 Hicks Drive Elburn IL 60119\, 732 Hicks Drive\, Elburn\, IL\, 60119\, United States
ATTACH;FMTTYPE=image/png:https://www.flatcanrecycling.com/wp-content/uploads/2024/09/Weekday-Drop-Offs-at-Flat-Can-HQ.png
ORGANIZER;CN="Flat Can Recycling":MAILTO:hello@flatcanrecycling.com
END:VEVENT
BEGIN:VEVENT
DTSTART;TZID=America/Chicago:20241216T070000
DTEND;TZID=America/Chicago:20241220T160000
DTSTAMP:20260419T175620
CREATED:20241216T231713Z
LAST-MODIFIED:20241216T231714Z
UID:2074-1734332400-1734710400@www.flatcanrecycling.com
SUMMARY:Weekday Drop-Offs at Flat Can HQ
DESCRIPTION:Drop off your specialized items for recycling every Monday – Friday\,  from 7am – 4pm at Flat Can Recycling\, 732 Hicks Drive\, Elburn\, IL 60119. \nConvenience fees apply\, and both cash and credit cards are accepted on-site. Don’t miss this opportunity to recycle responsibly and declutter your space! \nItems we Recycle \n\nAerosol Products: $1 each\nBlock Styrofoam (#6 only) – No food containers: $4 per lb\nSmoke Detectors & CO Detectors: $1 each\nCar Seats: $10 each\nHard Hats: $1 each\nHousehold Batteries: $4 per lb\nLatex Paint: $0 per sample\, $0 per pint\, $2 per quart\, $5 per gallon\, $20 per 5 gallons\nPropane & MAPP (14oz & 16 oz tanks): $4 each\nPower Wheels Cars w/ Battery: $20 each\nBubble Cars (Kids Red/Yellow): $10 each\nTricycles (Plastic Only): $10 each\nStrollers: $10 each\nTextiles\, Clothing & Shoes: Free\nHelium Tank (Balloon Time): $10 each\nHighchairs: $10 each\n\nThis event is a great opportunity to safely dispose of these materials while supporting a local business!
URL:https://www.flatcanrecycling.com/event/hicks-remix-drop-off-event-11-2/
LOCATION:732 Hicks Drive Elburn IL 60119\, 732 Hicks Drive\, Elburn\, IL\, 60119\, United States
ATTACH;FMTTYPE=image/png:https://www.flatcanrecycling.com/wp-content/uploads/2024/09/Weekday-Drop-Offs-at-Flat-Can-HQ.png
ORGANIZER;CN="Flat Can Recycling":MAILTO:hello@flatcanrecycling.com
END:VEVENT
BEGIN:VEVENT
DTSTART;TZID=America/Chicago:20241216T070000
DTEND;TZID=America/Chicago:20241220T160000
DTSTAMP:20260419T175620
CREATED:20241216T231713Z
LAST-MODIFIED:20241216T231714Z
UID:2074-1734332400-1734710400@www.flatcanrecycling.com
SUMMARY:Weekday Drop-Offs at Flat Can HQ
DESCRIPTION:Drop off your specialized items for recycling every Monday – Friday\,  from 7am – 4pm at Flat Can Recycling\, 732 Hicks Drive\, Elburn\, IL 60119. \nConvenience fees apply\, and both cash and credit cards are accepted on-site. Don’t miss this opportunity to recycle responsibly and declutter your space! \nItems we Recycle \n\nAerosol Products: $1 each\nBlock Styrofoam (#6 only) – No food containers: $4 per lb\nSmoke Detectors & CO Detectors: $1 each\nCar Seats: $10 each\nHard Hats: $1 each\nHousehold Batteries: $4 per lb\nLatex Paint: $0 per sample\, $0 per pint\, $2 per quart\, $5 per gallon\, $20 per 5 gallons\nPropane & MAPP (14oz & 16 oz tanks): $4 each\nPower Wheels Cars w/ Battery: $20 each\nBubble Cars (Kids Red/Yellow): $10 each\nTricycles (Plastic Only): $10 each\nStrollers: $10 each\nTextiles\, Clothing & Shoes: Free\nHelium Tank (Balloon Time): $10 each\nHighchairs: $10 each\n\nThis event is a great opportunity to safely dispose of these materials while supporting a local business!
URL:https://www.flatcanrecycling.com/event/hicks-remix-drop-off-event-11-2/
LOCATION:732 Hicks Drive Elburn IL 60119\, 732 Hicks Drive\, Elburn\, IL\, 60119\, United States
ATTACH;FMTTYPE=image/png:https://www.flatcanrecycling.com/wp-content/uploads/2024/09/Weekday-Drop-Offs-at-Flat-Can-HQ.png
ORGANIZER;CN="Flat Can Recycling":MAILTO:hello@flatcanrecycling.com
END:VEVENT
BEGIN:VEVENT
DTSTART;TZID=UTC:20260228T080000
DTEND;TZID=UTC:20260228T120000
DTSTAMP:20260419T175620
CREATED:20260120T011835Z
LAST-MODIFIED:20260120T011835Z
UID:2421-1772265600-1772280000@www.flatcanrecycling.com
SUMMARY:Kane County Recycling Event – St. Charles\, IL
DESCRIPTION:Join us for the Kane County Recycling Event\, organized by Clair Ryan with Kane County. Located at 540 S. Randall Road\, St. Charles\, IL\, this event offers a convenient way to responsibly recycle a wide range of items. Clear out your storage and recycle the right way—safely\, easily\, and locally. \nAccepted Items List with Convenience Fees \n\nStrollers: $10\nHigh Chairs: $10\nCar Seats: $10\nAerosol: $1.25/can\nPropane & Mapp Gas (14 oz & 16 oz): $4/canister\nSmoke & CO2 Detectors: $2 each\nBubble Cars: $10\nHelium Tanks: $5\nPower Wheels Cars: $20
URL:https://www.flatcanrecycling.com/event/kane-county-recycling-event-st-charles-il/
LOCATION:540 S Randall Rd\, 540 S Randall Rd\, St. Charles\, IL\, 60174\, United States
ATTACH;FMTTYPE=image/png:https://www.flatcanrecycling.com/wp-content/uploads/2026/01/Kane-County-Recycling-Event-–-St.-Charles-IL.png
END:VEVENT
BEGIN:VEVENT
DTSTART;TZID=UTC:20260228T090000
DTEND;TZID=UTC:20260228T120000
DTSTAMP:20260419T175620
CREATED:20260120T010811Z
LAST-MODIFIED:20260120T011544Z
UID:2417-1772269200-1772280000@www.flatcanrecycling.com
SUMMARY:Reuse & Recycling Pop-Up – Chicago Waldorf School
DESCRIPTION:Join us for the Reuse & Recycling Pop-Up\, organized by Reduce Waste Chicago. Located at the Chicago Waldorf School\, 5200 N Ashland Ave\, Chicago\, IL 60640\, this event offers a convenient way to responsibly recycle hard-to-recycle household items. Clear out your clutter and recycle it the right way. \nAccepted Items List with Convenience Fees \n\nAerosol Cans: $1.25 each\nBubble Cars: $10 each\nCar Seats: $10 each\nHard Hats: $1 each\nHelium Tanks (Balloon Time): $5 each\nHigh Chairs: $10 each\nHousehold Batteries: $4 per pound\nLatex Paint (Sample Pint): Free\nLatex Paint (Quart): $3 each\nLatex Paint (1 Gallon): $7 each\nLatex Paint (5 Gallon): $22 each\nPower Wheel Cars with Battery: $20 each\nPropane & MAPP Tanks (14 & 16 oz): $4 each\nSmoke & CO2 Detectors: $2 each\nStrollers: $10 each\nTricycles (plastic only): $10 each
URL:https://www.flatcanrecycling.com/event/reuse-recycling-pop-up-chicago-waldorf-school/
LOCATION:Chicago Waldorf School\, 5200 N Ashland Ave\, Chicago\, 60640\, United States
ATTACH;FMTTYPE=image/png:https://www.flatcanrecycling.com/wp-content/uploads/2026/01/Reuse-Recycling-Pop-Up.png
END:VEVENT
END:VCALENDAR